BEGIN:VCALENDAR
VERSION:2.0
PRODID:-//jEvents 2.0 for Joomla//EN
CALSCALE:GREGORIAN
METHOD:PUBLISH
BEGIN:VTIMEZONE
TZID:Asia/Kuala_Lumpur
BEGIN:STANDARD
DTSTART:20170924T080000
RDATE:20380119T111407
TZOFFSETFROM:+0800
TZOFFSETTO:+0800
TZNAME:Asia/Kuala_Lumpur +08
END:STANDARD
END:VTIMEZONE
BEGIN:VEVENT
UID:912c504e475939412dfea86be2f9305d
CATEGORIES:Oil & Gas
SUMMARY:MOGSEC 2018
LOCATION:Kuala Lumpur, Malaysia
DESCRIPTION;ENCODING=QUOTED-PRINTABLE:\n\n\n\n\nMOGSEC 2018 is expected to welcome 7,000 quality trade and profes
 sional visitors from the Malaysian Oil & Gas Industry who are looking to so
 urce for the latest products, services and technology from the market and t
 o connect with new suppliers, business partners and customers \n \n\nThe 4t
 h Malaysian Oil & Gas Services Exhibition and Conference is an excellent pl
 atform to exhibit and showcase the success stories, capabilities and progre
 ss of local service providers in the local Oil & Gas sector.\n
CONTACT:FREE MAP DISTRIBUTION
X-EXTRAINFO:http://www.mogsec.com.my/home/index.php
DTSTAMP:20260421T083010Z
DTSTART;TZID=Asia/Kuala_Lumpur:20180925T080000
DTEND;TZID=Asia/Kuala_Lumpur:20180927T170000
SEQUENCE:0
TRANSP:OPAQUE
END:VEVENT
END:VCALENDAR