BEGIN:VCALENDAR
VERSION:2.0
PRODID:-//jEvents 2.0 for Joomla//EN
CALSCALE:GREGORIAN
METHOD:PUBLISH
BEGIN:VTIMEZONE
TZID:Asia/Kuala_Lumpur
BEGIN:STANDARD
DTSTART:20170916T080000
RDATE:20380119T111407
TZOFFSETFROM:+0800
TZOFFSETTO:+0800
TZNAME:Asia/Kuala_Lumpur +08
END:STANDARD
END:VTIMEZONE
BEGIN:VEVENT
UID:8f8b297ea63f119cc30da32e64e99b52
CATEGORIES:Oil & Gas
SUMMARY:Gastech 2018
LOCATION:Barcelona, Spain
DESCRIPTION;ENCODING=QUOTED-PRINTABLE:\n\nThe Gastech 2018 conference will see an extended ministerial and global
  business leader dialogue session and strategic panel session, that will hi
 ghlight the global outlook and shape the energy landscape for decades to co
 me. The enhanced technical conference programme, featuring over 50 sessions
 , will discuss and debate in detail the complete value chain from explorati
 on and production through to distribution, highlighting new technologies an
 d industry developments.\n\n\nThe Gastech 2018 exhibition is expected to be
  the biggest edition yet, with more exhibitors, visitors and exhibition fea
 tures than ever before. With dedicated networking spaces, pavilions and ind
 ustry zones, the show floor has been designed to provide your company with 
 a high-traffic platform to showcase your latest products, services and tech
 nologies.\n\n\nWe look forward to welcoming you all to Gastech 2018 in Barc
 elona, Spain\n
CONTACT:FREE MAP DISTRIBUTION
X-EXTRAINFO:http://www.gastechevent.com/
DTSTAMP:20260421T083148Z
DTSTART;TZID=Asia/Kuala_Lumpur:20180917T080000
DTEND;TZID=Asia/Kuala_Lumpur:20180920T170000
SEQUENCE:0
TRANSP:OPAQUE
END:VEVENT
END:VCALENDAR