BEGIN:VCALENDAR
VERSION:2.0
PRODID:-//jEvents 2.0 for Joomla//EN
CALSCALE:GREGORIAN
METHOD:PUBLISH
BEGIN:VTIMEZONE
TZID:Asia/Kuala_Lumpur
BEGIN:STANDARD
DTSTART:20131201T000000
RDATE:20380119T111407
TZOFFSETFROM:+0800
TZOFFSETTO:+0800
TZNAME:Asia/Kuala_Lumpur +08
END:STANDARD
END:VTIMEZONE
BEGIN:VEVENT
UID:0200eb972b17ab4f290e9eb1ea3f6e54
CATEGORIES:Oil & Gas
SUMMARY:OSEA 2014
LOCATION:Marina Bay Sands, Singapore
DESCRIPTION;ENCODING=QUOTED-PRINTABLE: \nOSEA is the biennial tradeshow that has served the offshore Oil & Gas ma
 rket and its supporting industries since 1976.The Platinum Edition (20th) o
 f OSEA will be held from 2 – 5 December 2014 at Marina Bay Sands, Singapore
 . Established as the region’s most well-attended Oil & Gas event, it has co
 ntinuously attracted a high quality attendance.
CONTACT:FREE MAP DISTRIBUTION
X-EXTRAINFO:\n
DTSTAMP:20260421T143018Z
DTSTART;TZID=Asia/Kuala_Lumpur;VALUE=DATE:20141202
DTEND;TZID=Asia/Kuala_Lumpur;VALUE=DATE:20141206
SEQUENCE:0
TRANSP:OPAQUE
END:VEVENT
END:VCALENDAR