BEGIN:VCALENDAR
VERSION:2.0
PRODID:-//jEvents 2.0 for Joomla//EN
CALSCALE:GREGORIAN
METHOD:PUBLISH
BEGIN:VTIMEZONE
TZID:Asia/Kuala_Lumpur
BEGIN:STANDARD
DTSTART:20161018T080000
RDATE:20380119T111407
TZOFFSETFROM:+0800
TZOFFSETTO:+0800
TZNAME:Asia/Kuala_Lumpur +08
END:STANDARD
END:VTIMEZONE
BEGIN:VEVENT
UID:fb1d0b3001e38d06a939110b45996644
CATEGORIES:Oil & Gas
SUMMARY:The 4th FPSO & FLNG ASIA 2017
LOCATION:Shanghai, China
DESCRIPTION;ENCODING=QUOTED-PRINTABLE:\n\n\n\n\nThe 4th FPSO & FLNG ASIA 2017 produced by China Decision Makers C
 onsultancy, as the first listed international event organizer in China, is 
 now the largest professional conference organizer in Asia. Refining FPSO & 
 FLNG & FSRU industries through Technological Innovation, Commercial Coopera
 tion & Operation Optimization.\n\n\n \n\n\nWe set the boutique exhibition v
 isiting aims to meeting you can discuss this questions with some excellent 
 engineer and director.It also can help us understand the FPSO&FLNG&FSRU lat
 est technology.You can know operators  include shell、total BP 、Petrobras an
 d PTTEP as well as Inpex.Besides many leasing contractors will attend such 
 as SBM offshore、Modec and Blue water.\n
CONTACT:FREE MAP DISTRIBUTION
X-EXTRAINFO:Offical website：http://www.ffa-annual.com/
DTSTAMP:20260421T095708Z
DTSTART;TZID=Asia/Kuala_Lumpur:20171019T080000
DTEND;TZID=Asia/Kuala_Lumpur:20171020T170000
SEQUENCE:0
TRANSP:OPAQUE
END:VEVENT
END:VCALENDAR