BEGIN:VCALENDAR
VERSION:2.0
PRODID:-//jEvents 2.0 for Joomla//EN
CALSCALE:GREGORIAN
METHOD:PUBLISH
BEGIN:VTIMEZONE
TZID:Asia/Kuala_Lumpur
BEGIN:STANDARD
DTSTART:20170318T080000
RDATE:20380119T111407
TZOFFSETFROM:+0800
TZOFFSETTO:+0800
TZNAME:Asia/Kuala_Lumpur +08
END:STANDARD
END:VTIMEZONE
BEGIN:VEVENT
UID:952d5d9d6f9cac4d21d2b6ee8bd914e9
CATEGORIES:Oil & Gas
SUMMARY:World Conference on Ecology (Ecology 2018)
LOCATION:Berlin, Germany
DESCRIPTION;ENCODING=QUOTED-PRINTABLE:\n\nWe invite all the participants across the globe to attend the ‘World Co
 nference on Ecology (Ecology 2018)’ during March 19-20, at Berlin, Germany 
 that includes prompt keynote presentations, Oral talks, Poster presentation
 s and Exhibitions.\nThis Ecology 2018two days Conference will feature guest
  lectures, keynote lectures, oral presentations and poster presentations fr
 om preeminent government regulators, ecological scientist, climate scientis
 ts, regulatory compliance consultants, environmental organizations, technol
 ogy experts, attorneys, and policy analysts. Every year, globally Conferenc
 e Series Ltd organizes series Global Warming Conferences and Environmental 
 Conferences. On behalf of Ecology Conference we extend a warm welcome to th
 e distinguished professors, speakers, delegates related to Climatology, Met
 eorology, Environmental research, Marine Biology, Oceanography, Ecology, Bi
 ology, Environmental industries, from around the world to Berlin for attend
 ing World Conference on Ecology during March 19-20, 2018 in Berlin, Germany
 . The theme of the conference is “Raising awareness to Conserve Natural res
 ources and Ecology” aims to bring together leading Ecologist, Biologist, Cl
 imatologists, Meteorologists, Marine Biologists, Oceanographer, Environment
 al researchers, Business Entrepreneurs and Societies including Nobel Laurea
 tes to exchange and share their experiences and research results about all 
 aspects of Ecology and it conservation. This event will focus on variety of
  advanced research topics including Ecology&Biology, Evidence of Climate Ch
 anges, Global Warming Effects & Causes, Climate Change: Biodiversity Scenar
 ios, Climate Change & Health, Carbon Cycle, CO2 Capture and Sequestration, 
 Climate Hazards, Risks of Extinction, Effective Adaptation, Energy Policy, 
 Ecology Challenges, Species Economics, Space Monitoring of Climate Variable
 s, Ecological Law & Policy, Oceans &its contribution, Sustainability &Conse
 rvation, Pollution& its Effects on Ecological ground, CO2 Responsible Clima
 te Change?, Renewable Energy to Mitigate the changes in ecology, Solutions 
 to overcome and Entrepreneurs Investment Meet.\n
X-EXTRAINFO:Email: This email address is being protected from spambots. You need JavaSc
 ript enabled to view it.
 //
 
DTSTAMP:20260421T084116Z
DTSTART;TZID=Asia/Kuala_Lumpur:20180319T080000
DTEND;TZID=Asia/Kuala_Lumpur:20180320T170000
SEQUENCE:0
TRANSP:OPAQUE
END:VEVENT
END:VCALENDAR