BEGIN:VCALENDAR
VERSION:2.0
PRODID:-//jEvents 2.0 for Joomla//EN
CALSCALE:GREGORIAN
METHOD:PUBLISH
BEGIN:VTIMEZONE
TZID:Asia/Kuala_Lumpur
BEGIN:STANDARD
DTSTART:20170114T080000
RDATE:20380119T111407
TZOFFSETFROM:+0800
TZOFFSETTO:+0800
TZNAME:Asia/Kuala_Lumpur +08
END:STANDARD
END:VTIMEZONE
BEGIN:VEVENT
UID:0ec683d5808ebacb86f224e0662e5305
CATEGORIES:Oil & Gas
SUMMARY:The 15th OAP( Offshore APAC Convention & Exhibition) 2018
LOCATION:Kuala Lumpur, Malaysia
DESCRIPTION;ENCODING=QUOTED-PRINTABLE:\n\nAiming to focus on the dynamic offshore E&P activities and opportunitie
 s In Asia Pacific,the 15th Offshore oil and Gas will bring 800+ experts and
  decision makers together from around the world to highlight the latest to 
 highlight the latest advancements and technologies related the deepwater pr
 ojects,drilling technologies and floating production market. Kindly join th
 e event which is highly recognized for its unique networking opportunities,
 eminent speakers and an expanded program which Offers topics covering the w
 holealue chain and highlights the cooperation opportunities.\n
CONTACT:FREE MAP DISTRIBUTION 
X-EXTRAINFO:http://www.dap-annual.com/en
DTSTAMP:20260421T083809Z
DTSTART;TZID=Asia/Kuala_Lumpur:20180115T080000
DTEND;TZID=Asia/Kuala_Lumpur:20180116T170000
SEQUENCE:0
TRANSP:OPAQUE
END:VEVENT
END:VCALENDAR