BEGIN:VCALENDAR
VERSION:2.0
PRODID:-//jEvents 2.0 for Joomla//EN
CALSCALE:GREGORIAN
METHOD:PUBLISH
BEGIN:VTIMEZONE
TZID:Asia/Kuala_Lumpur
BEGIN:STANDARD
DTSTART:20170624T080000
RDATE:20380119T111407
TZOFFSETFROM:+0800
TZOFFSETTO:+0800
TZNAME:Asia/Kuala_Lumpur +08
END:STANDARD
END:VTIMEZONE
BEGIN:VEVENT
UID:0f8bdd3c104928d4018e44b8bd6d82e0
CATEGORIES:Oil & Gas
SUMMARY:WGC 2018- The 27th World Gas Conference
LOCATION:Walter E. Washington Convention Centre 801 Mount Vernon Place Northwest Was
 hington, DC 20001 United States of America
DESCRIPTION;ENCODING=QUOTED-PRINTABLE:\n\n\nThe 27th World Gas Conference is the largest and most high-profile gl
 obal gas conference and exhibition. \nFrom June 25-29, 2018, Washington DC 
 is expected to host 12,000 attendees, 500 speakers and 350 exhibitors repre
 senting more than 600 companies from 100 countries.\nPresented by the Inter
 national Gas Union (IGU) and run since 1931, the World Gas Conference has 8
 5 years of experience of bringing the gas industry together and delivers ex
 cellent insight. It creates exceptional business and learning opportunities
 , outstanding networking, and promises great return-on-investment. \nThe pr
 ogram benefits from the unrivalled expertise of more than 1,000 industry sp
 ecialists representing 30 countries of the IGU's 11 committees and two task
  forces. During the three year period they work together to prepare a progr
 am that is unique amongst other global gas events featuring 500 speakers an
 d designed to attract 4,000 conference delegates. The program will address 
 the most up-to-date business critical issues facing the global gas industry
 . \nThe 12,000+ attendees of the gas industry are made up of policy makers,
  influential leaders, buyers and sellers, industry and technical experts, c
 ustomers, NGOs, media, members of the financial community, and others.\nIt 
 is the first time ever that the World Gas Conference will be held in a coun
 try that is both the largest producer and consumer of natural gas. WGC was 
 last held in the USA in 1988, and it will likely be decades before it is he
 ld in the USA again. \n\n\nFor further information, please contact at This 
 email address is being protected from spambots. You need JavaScript enabled
  to view it.
 //
 or on +44 20 7978 0019.\nTo view the full program,click h
 ere.\nTo know more about the event, visit theofficial website.\n
CONTACT:FREE MAP DISTRIBUTION
X-EXTRAINFO:Website: wgc2018.com\nEmail: This email address is being protected from spa
 mbots. You need JavaScript enabled to view it.
 //
  \nTel: +44 20 7978 001
 9\n
DTSTAMP:20260421T100251Z
DTSTART;TZID=Asia/Kuala_Lumpur:20180625T080000
DTEND;TZID=Asia/Kuala_Lumpur:20180629T170000
SEQUENCE:0
TRANSP:OPAQUE
END:VEVENT
END:VCALENDAR