BEGIN:VCALENDAR
VERSION:2.0
PRODID:-//jEvents 2.0 for Joomla//EN
CALSCALE:GREGORIAN
METHOD:PUBLISH
BEGIN:VTIMEZONE
TZID:Asia/Kuala_Lumpur
BEGIN:STANDARD
DTSTART:20160801T080000
RDATE:20380119T111407
TZOFFSETFROM:+0800
TZOFFSETTO:+0800
TZNAME:Asia/Kuala_Lumpur +08
END:STANDARD
END:VTIMEZONE
BEGIN:VEVENT
UID:4dde1d7fdb3d41ede47a4ff5af58acef
CATEGORIES:Oil & Gas
SUMMARY:Indonesia International Geothermal Convention and Exhibition (IIGCE) 2017
LOCATION:Jakarta, Indonesia
DESCRIPTION;ENCODING=QUOTED-PRINTABLE:\n\n\n\n\nThe growing interest in geothermal energy, its importance in futu
 re energy supply and the need to accelerate its development make it every c
 ompelling to host a comprehensive industry forum which promotes and advance
 s broader collaboration and innovation amongst geothermal’s stakeholders. T
 o meet this objective, INAGA’s Annual Scientific Convention will host The 5
 th Indonesia International Geothermal Convention and Exhibition IIGCE) 2017
 , to be held from 2 – 4 August 2017 at Jakarta Convention Center (JCC) with
  theme “Moving Forward Under Current Challenges, Obstacles and Opportunitie
 s toward Achieving Geothermal Development 2025 Target”. We proudly encourag
 e you to be a part of the region’s premier event in Geothermal industry and
  benefit from its advanced programs.\n\n\n\nYour participation in this geot
 hermal forum get you and your company high visibility, in-depht knowledge a
 bout and access to geothermal industry in the region and update of the late
 st advances in geothermal science, technology and business. We are confiden
 t that by participating this event your company will gain long-lasting busi
 ness in geothermal industry.\n\n\n \n
X-EXTRAINFO:http://www.iigce.com/
DTSTAMP:20260421T095609Z
DTSTART;TZID=Asia/Kuala_Lumpur:20170802T080000
DTEND;TZID=Asia/Kuala_Lumpur:20170804T170000
SEQUENCE:0
TRANSP:OPAQUE
END:VEVENT
END:VCALENDAR