BEGIN:VCALENDAR
VERSION:2.0
PRODID:-//jEvents 2.0 for Joomla//EN
CALSCALE:GREGORIAN
METHOD:PUBLISH
BEGIN:VTIMEZONE
TZID:Asia/Kuala_Lumpur
BEGIN:STANDARD
DTSTART:20161022T080000
RDATE:20380119T111407
TZOFFSETFROM:+0800
TZOFFSETTO:+0800
TZNAME:Asia/Kuala_Lumpur +08
END:STANDARD
END:VTIMEZONE
BEGIN:VEVENT
UID:f336416ece45948af46335bd8e22aef9
CATEGORIES:Maritime 
SUMMARY:The Maritime Standard Awards 2017
LOCATION:Atlantis The Palm, Dubai, United Arab Emirates
DESCRIPTION;ENCODING=QUOTED-PRINTABLE:\n\n \n\n\n The 4th Annual Maritime Standard Awards will be held on Monday,
  23rd October 2017, once again in the opulent setting of The Ballroom, at t
 he Atlantis The Palm. Building on the achievements of the first three Award
 s, this year promises to be bigger and better still, with as many as 800 gu
 ests likely to attend. All the top names and personalities from the ports, 
 shipping and related industries will be there, providing unrivalled opportu
 nities for networking, and generating business opportunities over the month
 s to come. As well as the winners of the various award categories, chosen b
 y an elite, and highly experienced independent judging panel, there will on
 ce again be a few, very special awards presented by The Maritime Standard t
 eam for outstanding individual contributions. In total some 30 awards will 
 be up for grabs on the night. The Maritime Standard Awards offer the indust
 ry a high profile, and glittering stage on which to highlight its many achi
 evements. Now that it is firmly established, The Maritime Standard Awards’ 
 ability to raise the profile of the maritime sector in the region is unique
 .\n
X-EXTRAINFO:https://goo.gl/U1Zfrc 
DTSTAMP:20260421T095501Z
DTSTART;TZID=Asia/Kuala_Lumpur:20171023T080000
DTEND;TZID=Asia/Kuala_Lumpur:20171024T170000
SEQUENCE:0
TRANSP:OPAQUE
END:VEVENT
END:VCALENDAR