BEGIN:VCALENDAR
VERSION:2.0
PRODID:-//jEvents 2.0 for Joomla//EN
CALSCALE:GREGORIAN
METHOD:PUBLISH
BEGIN:VTIMEZONE
TZID:Asia/Kuala_Lumpur
BEGIN:STANDARD
DTSTART:20160423T080000
RDATE:20380119T111407
TZOFFSETFROM:+0800
TZOFFSETTO:+0800
TZNAME:Asia/Kuala_Lumpur +08
END:STANDARD
END:VTIMEZONE
BEGIN:VEVENT
UID:4ddcd90dd162e6852f9f6aa8946b0e3f
CATEGORIES:Oil & Gas
SUMMARY:2nd LNG International Summit 2017
LOCATION:Barcelona, Spain
DESCRIPTION;ENCODING=QUOTED-PRINTABLE:\n\n\n
CONTACT:FREE MAP DISTRIBUTION
X-EXTRAINFO:http://lngsummit.org/ 
DTSTAMP:20260421T095613Z
DTSTART;TZID=Asia/Kuala_Lumpur:20170424T080000
DTEND;TZID=Asia/Kuala_Lumpur:20170425T170000
SEQUENCE:0
TRANSP:OPAQUE
END:VEVENT
END:VCALENDAR