BEGIN:VCALENDAR
VERSION:2.0
PRODID:-//jEvents 2.0 for Joomla//EN
CALSCALE:GREGORIAN
METHOD:PUBLISH
BEGIN:VTIMEZONE
TZID:Asia/Kuala_Lumpur
BEGIN:STANDARD
DTSTART:20160321T080000
RDATE:20380119T111407
TZOFFSETFROM:+0800
TZOFFSETTO:+0800
TZNAME:Asia/Kuala_Lumpur +08
END:STANDARD
END:VTIMEZONE
BEGIN:VEVENT
UID:da15adce4410c650a98964320bdbae52
CATEGORIES:Oil & Gas
SUMMARY:TWI Technology Day
LOCATION:TWI Technology (S.E.Asia) Sdn. Bhd, No. 1, Jalan Utarid U5/13   Section U5,
  Shah Alam Selangor
DESCRIPTION;ENCODING=QUOTED-PRINTABLE: TWI Technology Day - Malaysia\n\n \n\n\nThis one-day event is organised to
  give you an update on the latest technologies in the world of non-destruct
 ive testing and welding. Over the course of its history, TWI has delivered 
 significant innovations applicable to many industries. This Technology Day 
 will be the perfect event to learn about some of the most recent innovation
 s of TWI and the leading industry players which can be applied across vario
 us industries.\n\n\n \nPlease RSVP by Friday 17 March at the latest by emai
 l to This email address is being protected from spambots. You need JavaScri
 pt enabled to view it.
 //
  \n\n \n
X-EXTRAINFO:http://www.twi-global.com/news-events/events/twi-technology-day-malaysia/
DTSTAMP:20260421T095311Z
DTSTART;TZID=Asia/Kuala_Lumpur:20170322T080000
DTEND;TZID=Asia/Kuala_Lumpur:20170322T170000
SEQUENCE:0
TRANSP:OPAQUE
END:VEVENT
END:VCALENDAR