BEGIN:VCALENDAR
VERSION:2.0
PRODID:-//jEvents 2.0 for Joomla//EN
CALSCALE:GREGORIAN
METHOD:PUBLISH
BEGIN:VTIMEZONE
TZID:Asia/Kuala_Lumpur
BEGIN:STANDARD
DTSTART:20160613T080000
RDATE:20380119T111407
TZOFFSETFROM:+0800
TZOFFSETTO:+0800
TZNAME:Asia/Kuala_Lumpur +08
END:STANDARD
END:VTIMEZONE
BEGIN:VEVENT
UID:e2ff1e4431a63959e27ccbea2223bc7f
CATEGORIES:Oil & Gas
SUMMARY:LNG Myanmar 2017
LOCATION:Chatrium Hotel, Yangon, Myanmar
DESCRIPTION;ENCODING=QUOTED-PRINTABLE:
CONTACT:FREE MAP DISTRIBUTION
DTSTAMP:20260421T095702Z
DTSTART;TZID=Asia/Kuala_Lumpur:20170614T080000
DTEND;TZID=Asia/Kuala_Lumpur:20170616T170000
SEQUENCE:0
TRANSP:OPAQUE
END:VEVENT
END:VCALENDAR