BEGIN:VCALENDAR
VERSION:2.0
PRODID:-//jEvents 2.0 for Joomla//EN
CALSCALE:GREGORIAN
METHOD:PUBLISH
BEGIN:VTIMEZONE
TZID:Asia/Kuala_Lumpur
BEGIN:STANDARD
DTSTART:20131109T000000
RDATE:20380119T111407
TZOFFSETFROM:+0800
TZOFFSETTO:+0800
TZNAME:Asia/Kuala_Lumpur +08
END:STANDARD
END:VTIMEZONE
BEGIN:VEVENT
UID:6662a240858397554ba2b5d5473922bd
CATEGORIES:Oil & Gas
SUMMARY:ADIPEC 2014 Conference
LOCATION:ABU DHABI, UAE
DESCRIPTION;ENCODING=QUOTED-PRINTABLE: \nEstablished as the largest conference programme in the Middle East, ADIP
 EC 2013 attracted 300 leading regional and International speakers from 34 c
 ountries. In total, ADIPEC welcomed 51,453 attendees out of which 5,801 wer
 e conference delegates.Themed under “Challenges & Opportunities for the nex
 t 30 years”, the ADIPEC 2014 Conference will cover 9 main streams: E&P Geos
 cience, Unconventional Resources, Field Development, Drilling and Completio
 n Technology, Projects Engineering and Management, Operational Excellence,H
 SE, Gas Technology, People & Talents.
CONTACT:FREE MAP DISTRIBUTION
X-EXTRAINFO:\n
DTSTAMP:20260421T143040Z
DTSTART;TZID=Asia/Kuala_Lumpur;VALUE=DATE:20141110
DTEND;TZID=Asia/Kuala_Lumpur;VALUE=DATE:20141114
SEQUENCE:0
TRANSP:OPAQUE
END:VEVENT
END:VCALENDAR