BEGIN:VCALENDAR
VERSION:2.0
PRODID:-//jEvents 2.0 for Joomla//EN
CALSCALE:GREGORIAN
METHOD:PUBLISH
BEGIN:VTIMEZONE
TZID:Asia/Kuala_Lumpur
BEGIN:STANDARD
DTSTART:20160515T080000
RDATE:20380119T111407
TZOFFSETFROM:+0800
TZOFFSETTO:+0800
TZNAME:Asia/Kuala_Lumpur +08
END:STANDARD
END:VTIMEZONE
BEGIN:VEVENT
UID:9dcff503223f0029b80b93a30c14e08f
CATEGORIES:Oil & Gas
SUMMARY:Global Commodity Risk Management Forum 2017
LOCATION:Regents Park Marriott Hotel, London, UK
DESCRIPTION;ENCODING=QUOTED-PRINTABLE:\n\nFollowing a very successful edition in May 2016, ComRisk 2017 is the mu
 st-attend forum for commodity practitioners. Tackling ALL risk types, acros
 s ALL commodities, the Forum will gather over 200 participants looking to g
 et clarity, to share best practices and most importantly to find appropriat
 e solutions to their risk management issues.\n
CONTACT:FREE MAP DISTRIBUTION
X-EXTRAINFO:Website: http://www.irn-international.com/\nContact email: This email addre
 ss is being protected from spambots. You need JavaScript enabled to view it
 .
 //
 \nTelephone: + 44 207 111 1615\n\n
DTSTAMP:20260421T095454Z
DTSTART;TZID=Asia/Kuala_Lumpur:20170516T080000
DTEND;TZID=Asia/Kuala_Lumpur:20170518T170000
SEQUENCE:0
TRANSP:OPAQUE
END:VEVENT
END:VCALENDAR