BEGIN:VCALENDAR
VERSION:2.0
PRODID:-//jEvents 2.0 for Joomla//EN
CALSCALE:GREGORIAN
METHOD:PUBLISH
BEGIN:VTIMEZONE
TZID:Asia/Kuala_Lumpur
BEGIN:STANDARD
DTSTART:20160912T080000
RDATE:20380119T111407
TZOFFSETFROM:+0800
TZOFFSETTO:+0800
TZNAME:Asia/Kuala_Lumpur +08
END:STANDARD
END:VTIMEZONE
BEGIN:VEVENT
UID:714c3bcc10113702e72c8ceef5b7b7f7
CATEGORIES:Maritime 
SUMMARY:Marintec Indonesia 2017 
LOCATION:Jakarta, Indonesia
DESCRIPTION;ENCODING=QUOTED-PRINTABLE:\n\n\n
CONTACT:FREE MAP DISTRIBUTION
X-EXTRAINFO:http://www.marintecindonesia.com/
DTSTAMP:20260421T095451Z
DTSTART;TZID=Asia/Kuala_Lumpur:20170913T080000
DTEND;TZID=Asia/Kuala_Lumpur:20170916T170000
SEQUENCE:0
TRANSP:OPAQUE
END:VEVENT
END:VCALENDAR