BEGIN:VCALENDAR
VERSION:2.0
PRODID:-//jEvents 2.0 for Joomla//EN
CALSCALE:GREGORIAN
METHOD:PUBLISH
BEGIN:VTIMEZONE
TZID:Asia/Kuala_Lumpur
BEGIN:STANDARD
DTSTART:20161016T080000
RDATE:20380119T111407
TZOFFSETFROM:+0800
TZOFFSETTO:+0800
TZNAME:Asia/Kuala_Lumpur +08
END:STANDARD
END:VTIMEZONE
BEGIN:VEVENT
UID:db815e5e7396d1a377060a9797e95cdf
CATEGORIES:Oil & Gas
SUMMARY:APOGCE 2017
LOCATION:Bali, Indonesia
DESCRIPTION;ENCODING=QUOTED-PRINTABLE:
DTSTAMP:20260421T095902Z
DTSTART;TZID=Asia/Kuala_Lumpur:20171017T080000
DTEND;TZID=Asia/Kuala_Lumpur:20171019T170000
SEQUENCE:0
TRANSP:OPAQUE
END:VEVENT
END:VCALENDAR