BEGIN:VCALENDAR
VERSION:2.0
PRODID:-//jEvents 2.0 for Joomla//EN
CALSCALE:GREGORIAN
METHOD:PUBLISH
BEGIN:VTIMEZONE
TZID:Asia/Kuala_Lumpur
BEGIN:STANDARD
DTSTART:20161024T080000
RDATE:20380119T111407
TZOFFSETFROM:+0800
TZOFFSETTO:+0800
TZNAME:Asia/Kuala_Lumpur +08
END:STANDARD
END:VTIMEZONE
BEGIN:VEVENT
UID:f0c7c2062648dfffab1232110dc95ae4
CATEGORIES:Oil & Gas
SUMMARY:Gas Asia Summit and Exhibition (GAS) 2017
LOCATION:Marina Bay Sands, Singapore
DESCRIPTION;ENCODING=QUOTED-PRINTABLE:\n\n\nThe 5th edition of Gas Asia Summit & Exhibition (GAS 2017) takes plac
 e from 25th -27th October 2017 bringing up-to-date discussions on the dynam
 ic Asian gas market. The GAS 2017 programme will be developed around the th
 eme "Connecting the Gas & LNG value chain across Asia” with a panel of mark
 et leaders that will serve in an advisory capacity to the conference progra
 mme. The event aims to address all aspect of the gas and LNG value chain fr
 om the upstream to the downstream and power sector as well as highlight new
  dynamics that are revolutionizing the Asia gas market today.\nGAS 2017 con
 ference aims to draw 300 regional and international C-level executives and 
 decision makers in the industry while the exhibition aims to draw 2,500 vis
 itors with key interest in doing business in Asia’s gas & LNG portfolio.\n
CONTACT:FREE MAP DISTRIBUTION
X-EXTRAINFO: http://www.gasasiasummit.com/
DTSTAMP:20260421T095407Z
DTSTART;TZID=Asia/Kuala_Lumpur:20171025T080000
DTEND;TZID=Asia/Kuala_Lumpur:20171027T170000
SEQUENCE:0
TRANSP:OPAQUE
END:VEVENT
END:VCALENDAR