BEGIN:VCALENDAR
VERSION:2.0
PRODID:-//jEvents 2.0 for Joomla//EN
CALSCALE:GREGORIAN
METHOD:PUBLISH
BEGIN:VTIMEZONE
TZID:Asia/Kuala_Lumpur
BEGIN:STANDARD
DTSTART:20161101T080000
RDATE:20380119T111407
TZOFFSETFROM:+0800
TZOFFSETTO:+0800
TZNAME:Asia/Kuala_Lumpur +08
END:STANDARD
END:VTIMEZONE
BEGIN:VEVENT
UID:eddcfb3ae08a9438057abe45bb776e5a
CATEGORIES:Oil & Gas
SUMMARY:7th International Natural Gas Congress & Fair (INGAS 2017)
LOCATION:Haliç Congress Center, Turkey
DESCRIPTION;ENCODING=QUOTED-PRINTABLE:\n\nHolding the title of being the industry’s largest congress and fair in 
 Turkey, the 7th International Natural Gas Congress and Fair (INGAS 2017) wi
 ll be held at the Haliç Congress Center on the 2nd and 3rd of November 2017
 . Hosted by IGDAS, which is considered to be the Turkish Natural Gas Indust
 ry’s pioneer, INGAS 2017 expects the participation of over 5000 experts and
  sector representatives, both local and from over 20 different countries.\n
 Organized under the auspices of Republic of Turkey Ministry of Energy and N
 atural Resources, the Energy Market Regulatory Authority (EMRA), Istanbul M
 etropolitan Municipality and other governmental and non governmental instit
 utions, INGAS 2017 will offer the opportunity to evaluate the industry’s ne
 w projections, such as the sustainable development of the natural gas indus
 try and  for Turkey to become a mid to long term natural gas trading centre
 . INGAS 2017 will bring together all of the gas industry’s dynamics to an i
 nternational platform\n
CONTACT:FREE MAP DISTRIBUTION
X-EXTRAINFO:INGAS 2017 Promotional Video Link: https://vimeo.com/videosanatcom/review/2
 16673769/3b25e79942
DTSTAMP:20260421T095554Z
DTSTART;TZID=Asia/Kuala_Lumpur:20171102T080000
DTEND;TZID=Asia/Kuala_Lumpur:20171103T170000
SEQUENCE:0
TRANSP:OPAQUE
END:VEVENT
END:VCALENDAR