BEGIN:VCALENDAR
VERSION:2.0
PRODID:-//jEvents 2.0 for Joomla//EN
CALSCALE:GREGORIAN
METHOD:PUBLISH
BEGIN:VTIMEZONE
TZID:Asia/Kuala_Lumpur
BEGIN:STANDARD
DTSTART:20160612T080000
RDATE:20380119T111407
TZOFFSETFROM:+0800
TZOFFSETTO:+0800
TZNAME:Asia/Kuala_Lumpur +08
END:STANDARD
END:VTIMEZONE
BEGIN:VEVENT
UID:6a14f3cfe67d3bcfe686830d75e0d29a
CATEGORIES:Oil & Gas
SUMMARY:Global Petroleum Show (GPS) 2017
LOCATION:Calgary, Canada
DESCRIPTION;ENCODING=QUOTED-PRINTABLE:
CONTACT:FREE MAP DISTRIBUTION
X-EXTRAINFO:https://globalpetroleumshow.com/
DTSTAMP:20260421T095901Z
DTSTART;TZID=Asia/Kuala_Lumpur:20170613T080000
DTEND;TZID=Asia/Kuala_Lumpur:20170615T170000
SEQUENCE:0
TRANSP:OPAQUE
END:VEVENT
END:VCALENDAR