BEGIN:VCALENDAR
VERSION:2.0
PRODID:-//jEvents 2.0 for Joomla//EN
CALSCALE:GREGORIAN
METHOD:PUBLISH
BEGIN:VTIMEZONE
TZID:Asia/Kuala_Lumpur
BEGIN:STANDARD
DTSTART:20131014T000000
RDATE:20380119T111407
TZOFFSETFROM:+0800
TZOFFSETTO:+0800
TZNAME:Asia/Kuala_Lumpur +08
END:STANDARD
END:VTIMEZONE
BEGIN:VEVENT
UID:af526ba8ed2c7397b5da8027a1073cd2
CATEGORIES:Oil & Gas
SUMMARY:Oil  & Gas Myanmar 2014
LOCATION:Myanmar Convention Centre, Yangon
DESCRIPTION;ENCODING=QUOTED-PRINTABLE: \nOil & Gas Myanmar 2014 is an exhibition focused on Oil and Gas Explorati
 on, Production and Refining and will be held in Myanmar Convention Center o
 n 15-17 October 2014 hosting worldwide representatives from all areas of th
 e oil & gas industry.
CONTACT:FREE MAP DISTRIBUTION
X-EXTRAINFO:ORGANIZER: SES
DTSTAMP:20260421T143819Z
DTSTART;TZID=Asia/Kuala_Lumpur;VALUE=DATE:20141015
DTEND;TZID=Asia/Kuala_Lumpur;VALUE=DATE:20141018
SEQUENCE:0
TRANSP:OPAQUE
END:VEVENT
END:VCALENDAR