BEGIN:VCALENDAR
VERSION:2.0
PRODID:-//jEvents 2.0 for Joomla//EN
CALSCALE:GREGORIAN
METHOD:PUBLISH
BEGIN:VTIMEZONE
TZID:Asia/Kuala_Lumpur
BEGIN:STANDARD
DTSTART:20160513T080000
RDATE:20380119T111407
TZOFFSETFROM:+0800
TZOFFSETTO:+0800
TZNAME:Asia/Kuala_Lumpur +08
END:STANDARD
END:VTIMEZONE
BEGIN:VEVENT
UID:a6d3d2213a75ab924535843b3a8d663e
CATEGORIES:Oil & Gas
SUMMARY:Gas/LNG Contracts : Structures, Pricing & Negotiation
LOCATION:Dubai, UAE
DESCRIPTION;ENCODING=QUOTED-PRINTABLE:\n\nDue to the complex geopolitical nature of gas/LNG sourcing and long ter
 m nature of gas transactions between buyers and sellers, it is commercially
  prudent for those involved in this process to know the global gas/LNG supp
 ly situation, available methodologies for price determination, contract str
 ucture and negotiation techniques. Any misjudgement in any of these areas c
 ould result in wrong sourcing decisions, significant adverse financial cons
 equences and legal liabilities.\n\n\n\nThis course is designed to enable th
 e professionals to make right sourcing decision, construct gas/LNG contract
 s and negotiate from a position of strength.\n\n\n\nFor more information, p
 lease email to This email address is being protected from spambots. You nee
 d JavaScript enabled to view it.
 //
 \n
CONTACT:courses
X-EXTRAINFO:http://infocusinternational.com/gascontracts/index.html\nhttp://infocusinte
 rnational.com/gascontracts/mediapartner.html
DTSTAMP:20260421T095834Z
DTSTART;TZID=Asia/Kuala_Lumpur:20170514T080000
DTEND;TZID=Asia/Kuala_Lumpur:20170518T170000
SEQUENCE:0
TRANSP:OPAQUE
END:VEVENT
END:VCALENDAR