BEGIN:VCALENDAR
VERSION:2.0
PRODID:-//jEvents 2.0 for Joomla//EN
CALSCALE:GREGORIAN
METHOD:PUBLISH
BEGIN:VTIMEZONE
TZID:Asia/Kuala_Lumpur
BEGIN:STANDARD
DTSTART:20160319T080000
RDATE:20380119T111407
TZOFFSETFROM:+0800
TZOFFSETTO:+0800
TZNAME:Asia/Kuala_Lumpur +08
END:STANDARD
END:VTIMEZONE
BEGIN:VEVENT
UID:166542d9b7c405f3b1a9770161683211
CATEGORIES:Oil & Gas
SUMMARY:EPC Contracts for Energy Industry
LOCATION:Kuala Lumpur, Malaysia
DESCRIPTION;ENCODING=QUOTED-PRINTABLE:\n\n\n\n\nToday, Engineering, Procurement and Construction (EPC) projects a
 re uniquely challenging. Parties currently involved in large complex and fa
 st-track EPC projects frequently suffer financial loss that could have been
  mitigated by effective contract management.\n\n\n \n\n\nIn this 3-day work
 shop, you will analyse an EPC contract, clause by clause, focusing on your 
 challenges in international and domestic projects. This unique interactive 
 master class discusses the key issues in EPC contracts which are relevant f
 or lenders, sponsors and borrowers in international construction projects a
 nd the keys to deliver successful projects.\n\n\n \n\n\nFor more informatio
 n, please email to This email address is being protected from spambots. You
  need JavaScript enabled to view it.
 //
 \n
CONTACT:Courses
X-EXTRAINFO:http://infocusinternational.com/epcenergy/index.html\nhttp://infocusinterna
 tional.com/epcenergy/partners.html
DTSTAMP:20260421T110613Z
DTSTART;TZID=Asia/Kuala_Lumpur:20170320T080000
DTEND;TZID=Asia/Kuala_Lumpur:20170322T170000
SEQUENCE:0
TRANSP:OPAQUE
END:VEVENT
END:VCALENDAR