BEGIN:VCALENDAR
VERSION:2.0
PRODID:-//jEvents 2.0 for Joomla//EN
CALSCALE:GREGORIAN
METHOD:PUBLISH
BEGIN:VTIMEZONE
TZID:Asia/Kuala_Lumpur
BEGIN:STANDARD
DTSTART:20171126T103000
RDATE:20380119T111407
TZOFFSETFROM:+0800
TZOFFSETTO:+0800
TZNAME:Asia/Kuala_Lumpur +08
END:STANDARD
END:VTIMEZONE
BEGIN:VEVENT
UID:ed504dc5401b72c5a72d3396d37b7de5
CATEGORIES:Oil & Gas
SUMMARY:OSEA 2018
LOCATION:MARINA BAY SANDS, SINGAPORE
DESCRIPTION;ENCODING=QUOTED-PRINTABLE:\n\n\n\n\nFirst launched in 1976, OSEA has since grown to be the most estab
 lished oil & gas industry event in Asia. The largest of its kind in Asia, O
 SEA has evolved over 40 years and continues to remain relevant by keeping u
 p with industry needs and delivering content that is most sought after by t
 rade professionals\n\n\nBacked by strong support from the industry, OSEA ha
 s consistently attracted a high level of international participation. At th
 e last show in 2016, 983 exhibitors from 48 countries / regions, and 17 int
 ernational group pavilions showcased an extensive range of equipment, innov
 ations and services for 12,024 trade visitors from 64 countries / regions.\
 n\n\nSUBSEA Asia 2018 will return once again alongside OSEA to feature the 
 latest subsea equipment and services, as well as delve deeper into subsea r
 elated issues at the SUBSEA Asia conference. Manufacturing technologies ded
 icated for the oil & gas industry at OGmTech2018 will also offer buyers mor
 e to see in a single platform.\n\n\nIndustry professionals can look forward
  to learn from the best in the industry as well-known experts will share th
 eir insights and knowledge at the OSEA International Conference and conduct
  informative sessions at OSEA Tech Garage.\n\n\nMark your calendar for OSEA
 2018 which will return from 27 – 29 Nov 2018 at Marina Bay Sands, Singapore
 , and join over 18,000 trade attendees from the oil & gas industry at the 3
 -day exhibition and conference.\n
CONTACT:FREE MAP DISTRIBUTION
X-EXTRAINFO:http://www.osea-asia.com/
DTSTAMP:20260421T083019Z
DTSTART;TZID=Asia/Kuala_Lumpur:20181127T103000
DTEND;TZID=Asia/Kuala_Lumpur:20181129T180000
SEQUENCE:0
TRANSP:OPAQUE
END:VEVENT
END:VCALENDAR