BEGIN:VCALENDAR
VERSION:2.0
PRODID:-//jEvents 2.0 for Joomla//EN
CALSCALE:GREGORIAN
METHOD:PUBLISH
BEGIN:VTIMEZONE
TZID:Asia/Kuala_Lumpur
BEGIN:STANDARD
DTSTART:20160712T080000
RDATE:20380119T111407
TZOFFSETFROM:+0800
TZOFFSETTO:+0800
TZNAME:Asia/Kuala_Lumpur +08
END:STANDARD
END:VTIMEZONE
BEGIN:VEVENT
UID:1a6abe96890a197edd37676c67a63548
CATEGORIES:Oil & Gas
SUMMARY:Oil Gas Expo- 2017
LOCATION:Berlin, Germany
DESCRIPTION;ENCODING=QUOTED-PRINTABLE:\n\n\n\n\nConference Series LLC welcomes you to attend the 3rd Internationa
 l Conference and Expo on Oil and Gas during July 13-14, 2017 at Berlin, Ger
 many. We cordially invite all the participants interested in sharing their 
 knowledge and research in the arena of petroleum and its allied areas.\nOil
  Gas Expo- 2017 provides a platform for researchers/scientists and academic
  people to share and globalize their research work while the participants f
 rom industry can promote their products thus felicitating dissemination of 
 knowledge. We anticipate more than 300 participants around the globe with t
 hought provoking keynote lectures, oral and poster presentations. The atten
 ding delegates include Editorial Board Members of related journals. The sco
 pe of Oil Gas Expo-2017 is to bring the advancements in the field of petrol
 eum and its allied areas.\nConference Url: http://oil-gas.conferenceseries.
 com/\n
X-EXTRAINFO:http://oil-gas.conferenceseries.com/
DTSTAMP:20260421T095711Z
DTSTART;TZID=Asia/Kuala_Lumpur:20170713T080000
DTEND;TZID=Asia/Kuala_Lumpur:20170714T170000
SEQUENCE:0
TRANSP:OPAQUE
END:VEVENT
END:VCALENDAR