BEGIN:VCALENDAR
VERSION:2.0
PRODID:-//jEvents 2.0 for Joomla//EN
CALSCALE:GREGORIAN
METHOD:PUBLISH
BEGIN:VTIMEZONE
TZID:Asia/Kuala_Lumpur
BEGIN:STANDARD
DTSTART:20160711T080000
RDATE:20380119T111407
TZOFFSETFROM:+0800
TZOFFSETTO:+0800
TZNAME:Asia/Kuala_Lumpur +08
END:STANDARD
END:VTIMEZONE
BEGIN:VEVENT
UID:84678e9837f7e74bf69b9a61aef96d7a
CATEGORIES:Maritime 
SUMMARY:Philmarine 2017
LOCATION:Manila, Philippines
DESCRIPTION;ENCODING=QUOTED-PRINTABLE:
DTSTAMP:20260421T095901Z
DTSTART;TZID=Asia/Kuala_Lumpur:20170712T080000
DTEND;TZID=Asia/Kuala_Lumpur:20170714T170000
SEQUENCE:0
TRANSP:OPAQUE
END:VEVENT
END:VCALENDAR