BEGIN:VCALENDAR
VERSION:2.0
PRODID:-//jEvents 2.0 for Joomla//EN
CALSCALE:GREGORIAN
METHOD:PUBLISH
BEGIN:VTIMEZONE
TZID:Asia/Kuala_Lumpur
BEGIN:STANDARD
DTSTART:20160315T080000
RDATE:20380119T111407
TZOFFSETFROM:+0800
TZOFFSETTO:+0800
TZNAME:Asia/Kuala_Lumpur +08
END:STANDARD
END:VTIMEZONE
BEGIN:VEVENT
UID:55b7764b5fbf846ccb6074051d2c64f1
CATEGORIES:Oil & Gas
SUMMARY:2nd East & Southern Africa Gas & LNG Conference
LOCATION:Maputo, Mozambique
DESCRIPTION;ENCODING=QUOTED-PRINTABLE:
DTSTAMP:20260421T095859Z
DTSTART;TZID=Asia/Kuala_Lumpur:20170316T080000
DTEND;TZID=Asia/Kuala_Lumpur:20170317T170000
SEQUENCE:0
TRANSP:OPAQUE
END:VEVENT
END:VCALENDAR