BEGIN:VCALENDAR
VERSION:2.0
PRODID:-//jEvents 2.0 for Joomla//EN
CALSCALE:GREGORIAN
METHOD:PUBLISH
BEGIN:VTIMEZONE
TZID:Asia/Kuala_Lumpur
BEGIN:STANDARD
DTSTART:20160515T080000
RDATE:20380119T111407
TZOFFSETFROM:+0800
TZOFFSETTO:+0800
TZNAME:Asia/Kuala_Lumpur +08
END:STANDARD
END:VTIMEZONE
BEGIN:VEVENT
UID:9b9f5a4b3b5358735212591339e8b205
CATEGORIES:Oil & Gas
SUMMARY:POGEE 2017 
LOCATION:Karachi, Pakistan
DESCRIPTION;ENCODING=QUOTED-PRINTABLE:
X-EXTRAINFO:http://www.pogeepakistan.com/
DTSTAMP:20260421T095901Z
DTSTART;TZID=Asia/Kuala_Lumpur:20170516T080000
DTEND;TZID=Asia/Kuala_Lumpur:20170518T170000
SEQUENCE:0
TRANSP:OPAQUE
END:VEVENT
END:VCALENDAR