BEGIN:VCALENDAR
VERSION:2.0
PRODID:-//jEvents 2.0 for Joomla//EN
CALSCALE:GREGORIAN
METHOD:PUBLISH
BEGIN:VTIMEZONE
TZID:Asia/Kuala_Lumpur
BEGIN:STANDARD
DTSTART:20161204T080000
RDATE:20380119T111407
TZOFFSETFROM:+0800
TZOFFSETTO:+0800
TZNAME:Asia/Kuala_Lumpur +08
END:STANDARD
END:VTIMEZONE
BEGIN:VEVENT
UID:a40045cbd7c82ab49fcffc8e0129cb57
CATEGORIES:Oil & Gas
SUMMARY:Oil & Gas Vietnam (OGAV) 2017
LOCATION:Vung Tau City, Vietnam
DESCRIPTION;ENCODING=QUOTED-PRINTABLE:\n\nOil & Gas Vietnam (OGAV) 2017 is the only specialized oil & gas event i
 n Vietnam that brings together an international congregation of both upstre
 am and downstream oil and gas companies and also its supporting industries 
 gathered in the heart of Vietnam’s oil and gas industry in Vung Tau, to sho
 wcase the latest developments in the oil and gas industry.\n\n\n\nHighlight
 s Of Oil & Gas Vietnam (OGAV) 2017: \nOil & Gas conference\nTechnical semin
 ars\nNetworking night for all exhibitors to meet potential buyers from the 
 oil & gas industry\n
CONTACT:FREE MAP DISTRIBUTION
X-EXTRAINFO:http://oilgasvietnam.com/
DTSTAMP:20260421T095615Z
DTSTART;TZID=Asia/Kuala_Lumpur:20171205T080000
DTEND;TZID=Asia/Kuala_Lumpur:20171207T170000
SEQUENCE:0
TRANSP:OPAQUE
END:VEVENT
END:VCALENDAR