BEGIN:VCALENDAR
VERSION:2.0
PRODID:-//jEvents 2.0 for Joomla//EN
CALSCALE:GREGORIAN
METHOD:PUBLISH
BEGIN:VTIMEZONE
TZID:Asia/Kuala_Lumpur
BEGIN:STANDARD
DTSTART:20130930T000000
RDATE:20380119T111407
TZOFFSETFROM:+0800
TZOFFSETTO:+0800
TZNAME:Asia/Kuala_Lumpur +08
END:STANDARD
END:VTIMEZONE
BEGIN:VEVENT
UID:7525bb96019e1171dc2dbd862211209c
CATEGORIES:Oil & Gas
SUMMARY:BRUNEI OIL AND GAS EXPO 2014
LOCATION:Kuala Belait, Brunei
DESCRIPTION;ENCODING=QUOTED-PRINTABLE: \nBrunei Oil & Gas 2014 will held on 1-2 October 2014 at Seria Community H
 all (Pusat Insani Seria) Kuala Belait, Brunei only specialized oil & gas te
 chnology event in Brunei that brings together an international congregation
  of both upstream and downstream oil and gas companies and also its support
 ing industries gathered in the active Oil & Gas area of Kuala Belait, Brune
 i to showcase the latest development in the oil and gas industry.
X-EXTRAINFO:ORGANIZER: Fireworks Trade Media Group
DTSTAMP:20260421T143810Z
DTSTART;TZID=Asia/Kuala_Lumpur;VALUE=DATE:20141001
DTEND;TZID=Asia/Kuala_Lumpur;VALUE=DATE:20141003
SEQUENCE:0
TRANSP:OPAQUE
END:VEVENT
END:VCALENDAR