BEGIN:VCALENDAR
VERSION:2.0
PRODID:-//jEvents 2.0 for Joomla//EN
CALSCALE:GREGORIAN
METHOD:PUBLISH
BEGIN:VTIMEZONE
TZID:Asia/Kuala_Lumpur
BEGIN:STANDARD
DTSTART:20161128T080000
RDATE:20380119T111407
TZOFFSETFROM:+0800
TZOFFSETTO:+0800
TZNAME:Asia/Kuala_Lumpur +08
END:STANDARD
END:VTIMEZONE
BEGIN:VEVENT
UID:654f35a31d81ef20be442efc861c3857
CATEGORIES:Oil & Gas
SUMMARY:Tank Storage Germany 2017 
LOCATION:Hamburg
DESCRIPTION;ENCODING=QUOTED-PRINTABLE:
DTSTAMP:20260421T095859Z
DTSTART;TZID=Asia/Kuala_Lumpur:20171129T080000
DTEND;TZID=Asia/Kuala_Lumpur:20171130T170000
SEQUENCE:0
TRANSP:OPAQUE
END:VEVENT
END:VCALENDAR