BEGIN:VCALENDAR
VERSION:2.0
PRODID:-//jEvents 2.0 for Joomla//EN
CALSCALE:GREGORIAN
METHOD:PUBLISH
BEGIN:VTIMEZONE
TZID:Asia/Kuala_Lumpur
BEGIN:STANDARD
DTSTART:20161119T080000
RDATE:20380119T111407
TZOFFSETFROM:+0800
TZOFFSETTO:+0800
TZNAME:Asia/Kuala_Lumpur +08
END:STANDARD
END:VTIMEZONE
BEGIN:VEVENT
UID:d6b65580c3f35d3c8f8c86e9d48c4591
CATEGORIES:Oil & Gas
SUMMARY:APGCE 2017
LOCATION:KLCC, Malaysia
DESCRIPTION;ENCODING=QUOTED-PRINTABLE:
DTSTAMP:20260421T095358Z
DTSTART;TZID=Asia/Kuala_Lumpur:20171120T080000
DTEND;TZID=Asia/Kuala_Lumpur:20171121T170000
SEQUENCE:0
TRANSP:OPAQUE
END:VEVENT
END:VCALENDAR