BEGIN:VCALENDAR
VERSION:2.0
PRODID:-//jEvents 2.0 for Joomla//EN
CALSCALE:GREGORIAN
METHOD:PUBLISH
BEGIN:VTIMEZONE
TZID:Asia/Kuala_Lumpur
BEGIN:STANDARD
DTSTART:20161112T080000
RDATE:20380119T111407
TZOFFSETFROM:+0800
TZOFFSETTO:+0800
TZNAME:Asia/Kuala_Lumpur +08
END:STANDARD
END:VTIMEZONE
BEGIN:VEVENT
UID:65d3afac23a1d3daee59e2f9dd4db4e5
CATEGORIES:Oil & Gas
SUMMARY:ADIPEC 2017
LOCATION:Abu Dhabi, UAE
DESCRIPTION;ENCODING=QUOTED-PRINTABLE:\n\n\n\n\nADIPEC 2017 offers a one-to-one business networking platform for 
 onsite meetings. More than 100,000 trade professionals visit ADIPEC to do b
 usiness with 2,200+ exhibiting companies onsite.\n\n\nThe dedicated high-pr
 ofile networking programme enables exhibitors to connect with buyers and di
 rectly promote their products and services to arrangemeetings in the dedica
 ted ADIPEC Meetings Lounge or on exhibitor stands.\n
CONTACT:FREE MAP DISTRIBUTION
X-EXTRAINFO:www.adipec.com
DTSTAMP:20260421T095617Z
DTSTART;TZID=Asia/Kuala_Lumpur:20171113T080000
DTEND;TZID=Asia/Kuala_Lumpur:20171116T170000
SEQUENCE:0
TRANSP:OPAQUE
END:VEVENT
END:VCALENDAR