BEGIN:VCALENDAR
VERSION:2.0
PRODID:-//jEvents 2.0 for Joomla//EN
CALSCALE:GREGORIAN
METHOD:PUBLISH
BEGIN:VTIMEZONE
TZID:Asia/Kuala_Lumpur
BEGIN:STANDARD
DTSTART:20160926T080000
RDATE:20380119T111407
TZOFFSETFROM:+0800
TZOFFSETTO:+0800
TZNAME:Asia/Kuala_Lumpur +08
END:STANDARD
END:VTIMEZONE
BEGIN:VEVENT
UID:5584b634cb343b0c5a10ee123cb7e62b
CATEGORIES:Oil & Gas
SUMMARY:Tank Storage Asia 2017 
LOCATION:Singapore, Hall A, Marina Bay Sands
DESCRIPTION;ENCODING=QUOTED-PRINTABLE:\n\n\n\n\nWith 75% of the world’s oil demand coming from Asia, the Tank Sto
 rage Asia exhibition and conference continues to be the perfect place for t
 he industry to capitalize on these favorable conditions. Storage prospects 
 in the region continue to flourish, with 280 million barrels of capacity ex
 pected to be added by the end of 2017. With predictions that sustainable st
 orage expansion will continue over the next 10 years, there couldn’t be a b
 etter time to visit or exhibit.\n\n\nThe two day event in Singapore, the se
 cond largest oil and gas trading hub in the world, will bring the South Eas
 t Asian bulk liquid storage industry together to network and do business in
  the luxurious Marina Bay Sands.\n\n\nFor more information, visit www.tanks
 torageasia.com \n
CONTACT:FREE MAP DISTRIBUTION
X-EXTRAINFO:www.tankstorageasia.com 
DTSTAMP:20260421T095721Z
DTSTART;TZID=Asia/Kuala_Lumpur:20170927T080000
DTEND;TZID=Asia/Kuala_Lumpur:20170928T170000
SEQUENCE:0
TRANSP:OPAQUE
END:VEVENT
END:VCALENDAR