BEGIN:VCALENDAR
VERSION:2.0
PRODID:-//jEvents 2.0 for Joomla//EN
CALSCALE:GREGORIAN
METHOD:PUBLISH
BEGIN:VTIMEZONE
TZID:Asia/Kuala_Lumpur
BEGIN:STANDARD
DTSTART:20160822T080000
RDATE:20380119T111407
TZOFFSETFROM:+0800
TZOFFSETTO:+0800
TZNAME:Asia/Kuala_Lumpur +08
END:STANDARD
END:VTIMEZONE
BEGIN:VEVENT
UID:d7f63adafce07583dc8d2b3fdbdb72ac
CATEGORIES:Maritime 
SUMMARY:INAMARINE 2017
LOCATION:Jakarta, Indonesia
DESCRIPTION;ENCODING=QUOTED-PRINTABLE:\n\n\n
CONTACT:FREE MAP DISTRIBUTION
X-EXTRAINFO:http://www.inamarine-exhibition.net/event-info#axzz4RxeQi7rO
DTSTAMP:20260421T095559Z
DTSTART;TZID=Asia/Kuala_Lumpur:20170823T080000
DTEND;TZID=Asia/Kuala_Lumpur:20170825T170000
SEQUENCE:0
TRANSP:OPAQUE
END:VEVENT
END:VCALENDAR