BEGIN:VCALENDAR
VERSION:2.0
PRODID:-//jEvents 2.0 for Joomla//EN
CALSCALE:GREGORIAN
METHOD:PUBLISH
BEGIN:VTIMEZONE
TZID:Asia/Kuala_Lumpur
BEGIN:STANDARD
DTSTART:20160710T080000
RDATE:20380119T111407
TZOFFSETFROM:+0800
TZOFFSETTO:+0800
TZNAME:Asia/Kuala_Lumpur +08
END:STANDARD
END:VTIMEZONE
BEGIN:VEVENT
UID:2969ede6a730be9cec65bdc9f86dab81
CATEGORIES:Oil & Gas
SUMMARY:OGA 2017
LOCATION:KLCC, Malaysia
DESCRIPTION;ENCODING=QUOTED-PRINTABLE:\n\n\nOGA 2017 – South East Asia’s Biggest And Best Petroleum Industry Exhi
 bition\n\nMalaysia’s Oil & Gas show has been running since 1987 and today i
 t has more attendees and more exhibiting companies than any other show in t
 he region. Between 2011 and 2015 the number of exhibitors increased by 44% 
 and the number of attendees increased 48%. The growth in the number of atte
 ndees is in part a consequence of Malaysia becoming the petroleum industrie
 s regional centre. The growth in the number of exhibitors is in part becaus
 e 92% of exhibiting companies come back year after year, with many believin
 g it’s the best show they’ve partaken.\n
CONTACT:FREE MAP DISTRIBUTION
X-EXTRAINFO:www.oilandgas-asia.com
DTSTAMP:20260421T095446Z
DTSTART;TZID=Asia/Kuala_Lumpur:20170711T080000
DTEND;TZID=Asia/Kuala_Lumpur:20170713T170000
SEQUENCE:0
TRANSP:OPAQUE
END:VEVENT
END:VCALENDAR