BEGIN:VCALENDAR
VERSION:2.0
PRODID:-//jEvents 2.0 for Joomla//EN
CALSCALE:GREGORIAN
METHOD:PUBLISH
BEGIN:VTIMEZONE
TZID:Asia/Kuala_Lumpur
BEGIN:STANDARD
DTSTART:20160626T080000
RDATE:20380119T111407
TZOFFSETFROM:+0800
TZOFFSETTO:+0800
TZNAME:Asia/Kuala_Lumpur +08
END:STANDARD
END:VTIMEZONE
BEGIN:VEVENT
UID:d298d2e9f7d1abeff86f902c2da287b8
CATEGORIES:Oil & Gas
SUMMARY:MIOGE 2017  -14th MOSCOW INTERNATIONAL OIL AND GAS EXHIBITION
LOCATION:Moscow, Russia
DESCRIPTION;ENCODING=QUOTED-PRINTABLE:
DTSTAMP:20260421T095901Z
DTSTART;TZID=Asia/Kuala_Lumpur:20170627T080000
DTEND;TZID=Asia/Kuala_Lumpur:20170630T170000
SEQUENCE:0
TRANSP:OPAQUE
END:VEVENT
END:VCALENDAR