BEGIN:VCALENDAR
VERSION:2.0
PRODID:-//jEvents 2.0 for Joomla//EN
CALSCALE:GREGORIAN
METHOD:PUBLISH
BEGIN:VTIMEZONE
TZID:Asia/Kuala_Lumpur
BEGIN:STANDARD
DTSTART:20160711T080000
RDATE:20380119T111407
TZOFFSETFROM:+0800
TZOFFSETTO:+0800
TZNAME:Asia/Kuala_Lumpur +08
END:STANDARD
END:VTIMEZONE
BEGIN:VEVENT
UID:8b15efcb7deb1b8174ca521d0fe4eed9
CATEGORIES:Oil & Gas
SUMMARY:Gas Indonesia Summit & Exhibition 2017
LOCATION:Jakarta, Indonesia
DESCRIPTION;ENCODING=QUOTED-PRINTABLE:\n\nThe second edition of Gas Indonesia Summit (GIS 2017) will take place o
 n 12th to 14th July 2017 at the Jakarta Convention Center and provides the 
 perfect platform for companies to showcase their expertise and brands to a 
 regional and international audience in an ever changing dynamic Indonesian 
 gas market.\n Themed “Advancing Indonesia’s gas & LNG industry”, GIS 2017 w
 ill provide crucial market updates on PLN’s power tender, what are the map 
 of opportunities for small to large scale infrastructure development from t
 he upstream to the downstream gas and LNG sector in Indonesia, as well as u
 pdates on Indonesia’s revision to 2015 gas regulation. GIS 2017 will also a
 ttract in excess of 400 high level conference delegates to the 3 day multi-
 stream conference and over 3,000 global visitors to the exhibition.\n
CONTACT:FREE MAP DISTRIBUTION
X-EXTRAINFO:http://www.gasindosummit.com/
DTSTAMP:20260421T095555Z
DTSTART;TZID=Asia/Kuala_Lumpur:20170712T080000
DTEND;TZID=Asia/Kuala_Lumpur:20170714T170000
SEQUENCE:0
TRANSP:OPAQUE
END:VEVENT
END:VCALENDAR