BEGIN:VCALENDAR
VERSION:2.0
PRODID:-//jEvents 2.0 for Joomla//EN
CALSCALE:GREGORIAN
METHOD:PUBLISH
BEGIN:VTIMEZONE
TZID:Asia/Kuala_Lumpur
BEGIN:STANDARD
DTSTART:20160430T080000
RDATE:20380119T111407
TZOFFSETFROM:+0800
TZOFFSETTO:+0800
TZNAME:Asia/Kuala_Lumpur +08
END:STANDARD
END:VTIMEZONE
BEGIN:VEVENT
UID:4f2a0bdcc3ea3bfde5a71ca9bb9367d3
CATEGORIES:Oil & Gas
SUMMARY:OTC 2017
LOCATION:Houston, USA
DESCRIPTION;ENCODING=QUOTED-PRINTABLE:
CONTACT:FREE MAP DISTRIBUTION
DTSTAMP:20260421T095902Z
DTSTART;TZID=Asia/Kuala_Lumpur:20170501T080000
DTEND;TZID=Asia/Kuala_Lumpur:20170504T170000
SEQUENCE:0
TRANSP:OPAQUE
END:VEVENT
END:VCALENDAR