BEGIN:VCALENDAR
VERSION:2.0
PRODID:-//jEvents 2.0 for Joomla//EN
CALSCALE:GREGORIAN
METHOD:PUBLISH
BEGIN:VTIMEZONE
TZID:Asia/Kuala_Lumpur
BEGIN:STANDARD
DTSTART:20160424T080000
RDATE:20380119T111407
TZOFFSETFROM:+0800
TZOFFSETTO:+0800
TZNAME:Asia/Kuala_Lumpur +08
END:STANDARD
END:VTIMEZONE
BEGIN:VEVENT
UID:a2d9944ab5719da5ab7e95c4acc35a01
CATEGORIES:Maritime 
SUMMARY:Sea Asia 2017
LOCATION:Singapore
DESCRIPTION;ENCODING=QUOTED-PRINTABLE:
DTSTAMP:20260421T095545Z
DTSTART;TZID=Asia/Kuala_Lumpur:20170425T080000
DTEND;TZID=Asia/Kuala_Lumpur:20170427T170000
SEQUENCE:0
TRANSP:OPAQUE
END:VEVENT
END:VCALENDAR