BEGIN:VCALENDAR
VERSION:2.0
PRODID:-//jEvents 2.0 for Joomla//EN
CALSCALE:GREGORIAN
METHOD:PUBLISH
BEGIN:VTIMEZONE
TZID:Asia/Kuala_Lumpur
BEGIN:STANDARD
DTSTART:20160403T080000
RDATE:20380119T111407
TZOFFSETFROM:+0800
TZOFFSETTO:+0800
TZNAME:Asia/Kuala_Lumpur +08
END:STANDARD
END:VTIMEZONE
BEGIN:VEVENT
UID:2bb4af3e3fe4f9fc90f392b6ad86d84b
CATEGORIES:Oil & Gas
SUMMARY:Gastech 2017
LOCATION:Makuhari Messe, Chiba-City, Japan
DESCRIPTION;ENCODING=QUOTED-PRINTABLE:\n\n\n\n\nGastech will be in its 29th edition and 45th year when it arrives
  at the Makuhari Messe Chiba in Tokyo, Japan from 4 to 7 April 2017. The ev
 ent will be hosted by the Japan Gastech Consortium made up of Japan’s top 1
 0 natural gas and LNG companies.\n\n\nConnecting 22 000 technical innovator
 s with commercial experts, the conference will draw 2000 conference delegat
 es while its B2B exhibition will provide a platform for over 500 internatio
 nal exhibitors. Its many features and dedicated business networking program
 mes will also gather over 250 C-level and ministerial VIPs, 150 senior lead
 ers who champion workforce diversity, as well as 250 young energy professio
 nals.\n\n\n \n
CONTACT:FREE MAP DISTRIBUTION
X-EXTRAINFO:http://www.gastechevent.com/
DTSTAMP:20260421T095553Z
DTSTART;TZID=Asia/Kuala_Lumpur:20170404T080000
DTEND;TZID=Asia/Kuala_Lumpur:20170407T170000
SEQUENCE:0
TRANSP:OPAQUE
END:VEVENT
END:VCALENDAR