BEGIN:VCALENDAR
VERSION:2.0
PRODID:-//jEvents 2.0 for Joomla//EN
CALSCALE:GREGORIAN
METHOD:PUBLISH
BEGIN:VTIMEZONE
TZID:Asia/Kuala_Lumpur
BEGIN:STANDARD
DTSTART:20160328T080000
RDATE:20380119T111407
TZOFFSETFROM:+0800
TZOFFSETTO:+0800
TZNAME:Asia/Kuala_Lumpur +08
END:STANDARD
END:VTIMEZONE
BEGIN:VEVENT
UID:711abfda73a9acad621d2456b6dd0e1a
CATEGORIES:Maritime 
SUMMARY:INMEX Vietnam 2017
LOCATION:Ho Chi Minh City, Vietnam
DESCRIPTION;ENCODING=QUOTED-PRINTABLE:
DTSTAMP:20260421T095903Z
DTSTART;TZID=Asia/Kuala_Lumpur:20170329T080000
DTEND;TZID=Asia/Kuala_Lumpur:20170331T170000
SEQUENCE:0
TRANSP:OPAQUE
END:VEVENT
END:VCALENDAR