BEGIN:VCALENDAR
VERSION:2.0
PRODID:-//jEvents 2.0 for Joomla//EN
CALSCALE:GREGORIAN
METHOD:PUBLISH
BEGIN:VTIMEZONE
TZID:Asia/Kuala_Lumpur
BEGIN:STANDARD
DTSTART:20130928T000000
RDATE:20380119T111407
TZOFFSETFROM:+0800
TZOFFSETTO:+0800
TZNAME:Asia/Kuala_Lumpur +08
END:STANDARD
END:VTIMEZONE
BEGIN:VEVENT
UID:715774a6056832262c4ee5d09d605423
CATEGORIES:Oil & Gas
SUMMARY:FPSO Congress 2014
LOCATION:Singapore Expo, Singapore
DESCRIPTION;ENCODING=QUOTED-PRINTABLE: \n2014 will mark the 15th anniversary of the world's largest FPSO World Co
 ngress in Singapore. Starting out from humble beginnings, the Congress has 
 grown from strength to strength annually, establishing its place as the lea
 ding global platform for oil companies, vessel contractors, financiers, shi
 pyards and industry stakeholders to discuss the challenges and opportunitie
 s pertaining to the market.As we look forward to the challenges and issues 
 in the FPSO market this year,  be it market trends, FPSO business models, c
 onversions vs new builds, own-operate vs leasing, deepwater projects, large
 -scale FPSOs, topside technology, project management, FPSO contracting, FPS
 O financing, shipyard capabilities, local content, emerging markets.
X-EXTRAINFO:ORGANIZER: IQPC Worldwide Pte Ltd
DTSTAMP:20260421T161401Z
DTSTART;TZID=Asia/Kuala_Lumpur;VALUE=DATE:20140929
DTEND;TZID=Asia/Kuala_Lumpur;VALUE=DATE:20141003
SEQUENCE:0
TRANSP:OPAQUE
END:VEVENT
END:VCALENDAR