BEGIN:VCALENDAR
VERSION:2.0
PRODID:-//jEvents 2.0 for Joomla//EN
CALSCALE:GREGORIAN
METHOD:PUBLISH
BEGIN:VTIMEZONE
TZID:Asia/Kuala_Lumpur
BEGIN:STANDARD
DTSTART:20160327T080000
RDATE:20380119T111407
TZOFFSETFROM:+0800
TZOFFSETTO:+0800
TZNAME:Asia/Kuala_Lumpur +08
END:STANDARD
END:VTIMEZONE
BEGIN:VEVENT
UID:447cb7aa360b1a2a1556f58f4a732b72
CATEGORIES:Oil & Gas
SUMMARY:StocExpo Europe 2017
LOCATION:Ahoy Rotterdam
DESCRIPTION;ENCODING=QUOTED-PRINTABLE:
DTSTAMP:20260421T111250Z
DTSTART;TZID=Asia/Kuala_Lumpur:20170328T080000
DTEND;TZID=Asia/Kuala_Lumpur:20170330T170000
SEQUENCE:0
TRANSP:OPAQUE
END:VEVENT
END:VCALENDAR