BEGIN:VCALENDAR
VERSION:2.0
PRODID:-//jEvents 2.0 for Joomla//EN
CALSCALE:GREGORIAN
METHOD:PUBLISH
BEGIN:VTIMEZONE
TZID:Asia/Kuala_Lumpur
BEGIN:STANDARD
DTSTART:20170313T080000
RDATE:20380119T111407
TZOFFSETFROM:+0800
TZOFFSETTO:+0800
TZNAME:Asia/Kuala_Lumpur +08
END:STANDARD
END:VTIMEZONE
BEGIN:VEVENT
UID:b4817d01314bf3a014f1cd0b6e059efe
CATEGORIES:Maritime 
SUMMARY:Asia Pacific Maritime (APM)
LOCATION:Hall A, B, C, D, E & F, Marine Bay Sands, Singapore
DESCRIPTION;ENCODING=QUOTED-PRINTABLE:\n\n\n\n\nAttended by over 15,000 owners, builders, procurers and end-users
  of industry products, and services, Asia Pacific Maritime (APM) is recogni
 sed by industry professionals as the premier shipbuilding & marine, workboa
 t and offshore event in Southeast Asia to expand business connections, rais
 e brand awareness and to launch new market products and services.\n\n\n \n\
 n\nIt’s where you need to be – for a sea of opportunities.\n
CONTACT:FREE MAP DISTRIBUTION
X-EXTRAINFO:Date:  	Wednesday, 14 March: 10am – 6pm\n	Thursday, 15 March: 10am – 6pm\n	
 Friday, 16 March: 10am – 5pm\n\nContact email: This email address is being 
 protected from spambots. You need JavaScript enabled to view it.
 //
 \n\nT
 elephone: +65 6780 4586\n
DTSTAMP:20260421T083209Z
DTSTART;TZID=Asia/Kuala_Lumpur:20180314T080000
DTEND;TZID=Asia/Kuala_Lumpur:20180316T170000
SEQUENCE:0
TRANSP:OPAQUE
END:VEVENT
END:VCALENDAR