BEGIN:VCALENDAR
VERSION:2.0
PRODID:-//jEvents 2.0 for Joomla//EN
CALSCALE:GREGORIAN
METHOD:PUBLISH
BEGIN:VTIMEZONE
TZID:Asia/Kuala_Lumpur
BEGIN:STANDARD
DTSTART:20160306T080000
RDATE:20380119T111407
TZOFFSETFROM:+0800
TZOFFSETTO:+0800
TZNAME:Asia/Kuala_Lumpur +08
END:STANDARD
END:VTIMEZONE
BEGIN:VEVENT
UID:0d891caf180a7326043e9cfb927a4b58
CATEGORIES:Oil & Gas
SUMMARY:MEOS 2017
LOCATION:BAHRAIN
DESCRIPTION;ENCODING=QUOTED-PRINTABLE:
DTSTAMP:20260421T095859Z
DTSTART;TZID=Asia/Kuala_Lumpur:20170307T080000
DTEND;TZID=Asia/Kuala_Lumpur:20170309T170000
SEQUENCE:0
TRANSP:OPAQUE
END:VEVENT
END:VCALENDAR