BEGIN:VCALENDAR
VERSION:2.0
PRODID:-//jEvents 2.0 for Joomla//EN
CALSCALE:GREGORIAN
METHOD:PUBLISH
BEGIN:VTIMEZONE
TZID:Asia/Kuala_Lumpur
BEGIN:STANDARD
DTSTART:20160508T080000
RDATE:20380119T111407
TZOFFSETFROM:+0800
TZOFFSETTO:+0800
TZNAME:Asia/Kuala_Lumpur +08
END:STANDARD
END:VTIMEZONE
BEGIN:VEVENT
UID:c82c18e1ff4354b45c031478e93cdaa8
CATEGORIES:Oil & Gas
SUMMARY:Oil, Gas & Mines East Africa (OGMA) 2017
LOCATION:Nairobi, Kenya
DESCRIPTION;ENCODING=QUOTED-PRINTABLE:
DTSTAMP:20260421T111250Z
DTSTART;TZID=Asia/Kuala_Lumpur:20170509T080000
DTEND;TZID=Asia/Kuala_Lumpur:20170511T170000
SEQUENCE:0
TRANSP:OPAQUE
END:VEVENT
END:VCALENDAR