BEGIN:VCALENDAR
VERSION:2.0
PRODID:-//jEvents 2.0 for Joomla//EN
CALSCALE:GREGORIAN
METHOD:PUBLISH
BEGIN:VTIMEZONE
TZID:Asia/Kuala_Lumpur
BEGIN:STANDARD
DTSTART:20160214T080000
RDATE:20380119T111407
TZOFFSETFROM:+0800
TZOFFSETTO:+0800
TZNAME:Asia/Kuala_Lumpur +08
END:STANDARD
END:VTIMEZONE
BEGIN:VEVENT
UID:490919a1eb0362f1667993900c5b26c3
CATEGORIES:Oil & Gas
SUMMARY:Egypt Petroleum Show (EGYPS) 2017
LOCATION:EECA, Cairo, Egypt
DESCRIPTION;ENCODING=QUOTED-PRINTABLE:
X-EXTRAINFO:http://www.egyptpetroleumshow.com/
DTSTAMP:20260421T095858Z
DTSTART;TZID=Asia/Kuala_Lumpur:20170214T080000
DTEND;TZID=Asia/Kuala_Lumpur:20170216T170000
SEQUENCE:0
TRANSP:OPAQUE
END:VEVENT
END:VCALENDAR