BEGIN:VCALENDAR
VERSION:2.0
PRODID:-//jEvents 2.0 for Joomla//EN
CALSCALE:GREGORIAN
METHOD:PUBLISH
BEGIN:VTIMEZONE
TZID:Asia/Kuala_Lumpur
BEGIN:STANDARD
DTSTART:20160126T080000
RDATE:20380119T111407
TZOFFSETFROM:+0800
TZOFFSETTO:+0800
TZNAME:Asia/Kuala_Lumpur +08
END:STANDARD
END:VTIMEZONE
BEGIN:VEVENT
UID:82373537b33de7408bf69ca0edf05dbc
CATEGORIES:Oil & Gas
SUMMARY:The Myanmar Oil and Gas Exhibition and Summit 2017
LOCATION:Yangon, Myanmar
DESCRIPTION;ENCODING=QUOTED-PRINTABLE:
DTSTAMP:20260421T095902Z
DTSTART;TZID=Asia/Kuala_Lumpur:20170126T080000
DTEND;TZID=Asia/Kuala_Lumpur:20170127T170000
SEQUENCE:0
TRANSP:OPAQUE
END:VEVENT
END:VCALENDAR