BEGIN:VCALENDAR
VERSION:2.0
PRODID:-//jEvents 2.0 for Joomla//EN
CALSCALE:GREGORIAN
METHOD:PUBLISH
BEGIN:VTIMEZONE
TZID:Asia/Kuala_Lumpur
BEGIN:STANDARD
DTSTART:20160116T080000
RDATE:20380119T111407
TZOFFSETFROM:+0800
TZOFFSETTO:+0800
TZNAME:Asia/Kuala_Lumpur +08
END:STANDARD
END:VTIMEZONE
BEGIN:VEVENT
UID:c3e7f543a5c837529bf19082e3fc3d11
CATEGORIES:Oil & Gas
SUMMARY:LPG Indonesia 2017
LOCATION:Jakarta, Indonesia
DESCRIPTION;ENCODING=QUOTED-PRINTABLE:\n\n\n\n\nLPG Indonesia 2017 held on the 16-19 Jan 2017 at Shangri-La, Jaka
 rta, Indonesia would be the biggest LPG industry event for Indonesia in 201
 7. This event is also fully supported by World LPG Association.\n\n\nWith a
 n expected attendance of at least 300 participants from across Indonesia, t
 his event would be the go-to event for you to learn about the current oppor
 tunities and challenges facing the industry and opportunities to network wi
 th many local LPG companies from different regions in Indonesia\n
CONTACT:FREE MAP DISTRIBUTION
X-EXTRAINFO:www.lpgacademy.org
DTSTAMP:20260421T095701Z
DTSTART;TZID=Asia/Kuala_Lumpur:20170116T080000
DTEND;TZID=Asia/Kuala_Lumpur:20170119T170000
SEQUENCE:0
TRANSP:OPAQUE
END:VEVENT
END:VCALENDAR