BEGIN:VCALENDAR
VERSION:2.0
PRODID:-//jEvents 2.0 for Joomla//EN
CALSCALE:GREGORIAN
METHOD:PUBLISH
BEGIN:VTIMEZONE
TZID:Asia/Kuala_Lumpur
BEGIN:STANDARD
DTSTART:20130923T000000
RDATE:20380119T111407
TZOFFSETFROM:+0800
TZOFFSETTO:+0800
TZNAME:Asia/Kuala_Lumpur +08
END:STANDARD
END:VTIMEZONE
BEGIN:VEVENT
UID:096b0df9bd5d77b9c026c31a50f2dadf
CATEGORIES:Oil & Gas
SUMMARY:20th Asia Oil Week
LOCATION:Goodwood Park Hotel in Singapore
DESCRIPTION;ENCODING=QUOTED-PRINTABLE: With 35 year records in and on the worldwide oil and gas industry, Global 
 Pacific & Partners will once again host their annual Asia Oil Week/Asia Ups
 tream Conference, and the much acclaimed 23rd Asia Petroleum Strategy Brief
 ing.Asia’s oil and gas game is moving into new territories, with establishe
 d producer countries and corporate players eyeing new strategies, and re-di
 scovered frontiers across vast region, from Pakistan to New Zealand “New fr
 ontiers and oil/gas potential beckon in Asia’s hydrocarbons game, while Ind
 ependents have opened new plays and state oil companies have global strateg
 ies, while licensing agencies and Ministries seek exploration dollars ” The
  20th Asia Oil Week, begins with the 23rd Asia Petroleum Strategy Briefing,
  the longest running Strategy Briefing held in and on Asia within the globa
 l upstream industry. It provides an in-depth examination of the competitive
  upstream oil and gas-LNG strategies in Asian exploration and development w
 ith diagnosis of portfolios held by corporate oil, Governments and National
  Oil Companies, whilst tracking competitors and state players across Southe
 ast Asia and ASEAN, Australasia, China, the sub-Continent (India, Nepal, Pa
 kistan, Bangladesh), East Asia (Japan, South Korea, Taiwan) and in old/new 
 frontiers (Timor Leste, Sri Lanka and elsewhere).
X-EXTRAINFO:ORGANIZER: Global Pacific & Partners
DTSTAMP:20260421T143809Z
DTSTART;TZID=Asia/Kuala_Lumpur;VALUE=DATE:20140924
DTEND;TZID=Asia/Kuala_Lumpur;VALUE=DATE:20140927
SEQUENCE:0
TRANSP:OPAQUE
END:VEVENT
END:VCALENDAR